BEGIN:VCALENDAR
VERSION:2.0
PRODID:-//KidsTLC - ECPv6.15.20//NONSGML v1.0//EN
CALSCALE:GREGORIAN
METHOD:PUBLISH
X-ORIGINAL-URL:https://www.kidstlc.org
X-WR-CALDESC:Events for KidsTLC
REFRESH-INTERVAL;VALUE=DURATION:PT1H
X-Robots-Tag:noindex
X-PUBLISHED-TTL:PT1H
BEGIN:VTIMEZONE
TZID:America/Chicago
BEGIN:DAYLIGHT
TZOFFSETFROM:-0600
TZOFFSETTO:-0500
TZNAME:CDT
DTSTART:20250309T080000
END:DAYLIGHT
BEGIN:STANDARD
TZOFFSETFROM:-0500
TZOFFSETTO:-0600
TZNAME:CST
DTSTART:20251102T070000
END:STANDARD
BEGIN:DAYLIGHT
TZOFFSETFROM:-0600
TZOFFSETTO:-0500
TZNAME:CDT
DTSTART:20260308T080000
END:DAYLIGHT
BEGIN:STANDARD
TZOFFSETFROM:-0500
TZOFFSETTO:-0600
TZNAME:CST
DTSTART:20261101T070000
END:STANDARD
BEGIN:DAYLIGHT
TZOFFSETFROM:-0600
TZOFFSETTO:-0500
TZNAME:CDT
DTSTART:20270314T080000
END:DAYLIGHT
BEGIN:STANDARD
TZOFFSETFROM:-0500
TZOFFSETTO:-0600
TZNAME:CST
DTSTART:20271107T070000
END:STANDARD
END:VTIMEZONE
BEGIN:VEVENT
DTSTART;TZID=America/Chicago:20260601T073000
DTEND;TZID=America/Chicago:20260601T153000
DTSTAMP:20260420T020920
CREATED:20230321T184907Z
LAST-MODIFIED:20251028T144530Z
UID:10455-1780299000-1780327800@www.kidstlc.org
SUMMARY:KidsTLC Open
DESCRIPTION:Let’s Par-Tee! Join us for the KidsTLC Open\, a premier golf tournament at Shadow Glen Golf Club\, one of Kansas City’s top courses! With stunning views\, exciting course challenges and amazing prizes\, it’s an unforgettable day of fun\, competition\, and giving back. Don’t miss out—this tournament sells out quick\, secure your team/sponsorship today! \n 
URL:https://www.kidstlc.org/event-calendar/open/
LOCATION:Shadow Glen Golf Club\, 26000 W. 104th Ter\,\, Olathe\, 66061\, United States
END:VEVENT
BEGIN:VEVENT
DTSTART;TZID=America/Chicago:20260911T180000
DTEND;TZID=America/Chicago:20260911T230000
DTSTAMP:20260420T020920
CREATED:20240130T163800Z
LAST-MODIFIED:20251028T144420Z
UID:11536-1789149600-1789167600@www.kidstlc.org
SUMMARY:Benefit26:Empower
DESCRIPTION:Join us for the highly anticipated Benefit26:Empower\, an unforgettable evening hosted at the stunning\, historic Union Station in Kansas City! This elegant fundraiser promises an evening of amazing food\, deliciously crafted drinks\, and exciting silent and live auctions with exclusive items. The night doesn’t end there— keep the celebration going with a lively After Party and enjoy a night to remember!
URL:https://www.kidstlc.org/event-calendar/benefit24-connection/
LOCATION:Union Station Kansas City\, 30 W. Pershing Rd.\, Kansas City\, MO\, 64108\, United States
END:VEVENT
END:VCALENDAR