BEGIN:VCALENDAR
VERSION:2.0
PRODID:-//KidsTLC - ECPv6.15.20//NONSGML v1.0//EN
CALSCALE:GREGORIAN
METHOD:PUBLISH
X-WR-CALNAME:KidsTLC
X-ORIGINAL-URL:https://www.kidstlc.org
X-WR-CALDESC:Events for KidsTLC
REFRESH-INTERVAL;VALUE=DURATION:PT1H
X-Robots-Tag:noindex
X-PUBLISHED-TTL:PT1H
BEGIN:VTIMEZONE
TZID:America/Chicago
BEGIN:DAYLIGHT
TZOFFSETFROM:-0600
TZOFFSETTO:-0500
TZNAME:CDT
DTSTART:20220313T080000
END:DAYLIGHT
BEGIN:STANDARD
TZOFFSETFROM:-0500
TZOFFSETTO:-0600
TZNAME:CST
DTSTART:20221106T070000
END:STANDARD
BEGIN:DAYLIGHT
TZOFFSETFROM:-0600
TZOFFSETTO:-0500
TZNAME:CDT
DTSTART:20230312T080000
END:DAYLIGHT
BEGIN:STANDARD
TZOFFSETFROM:-0500
TZOFFSETTO:-0600
TZNAME:CST
DTSTART:20231105T070000
END:STANDARD
BEGIN:DAYLIGHT
TZOFFSETFROM:-0600
TZOFFSETTO:-0500
TZNAME:CDT
DTSTART:20240310T080000
END:DAYLIGHT
BEGIN:STANDARD
TZOFFSETFROM:-0500
TZOFFSETTO:-0600
TZNAME:CST
DTSTART:20241103T070000
END:STANDARD
END:VTIMEZONE
BEGIN:VEVENT
DTSTART;TZID=America/Chicago:20230504T183000
DTEND;TZID=America/Chicago:20230504T183000
DTSTAMP:20260422T064819
CREATED:20230319T122547Z
LAST-MODIFIED:20230428T141044Z
UID:10393-1683225000-1683225000@www.kidstlc.org
SUMMARY:JAM–Jackson and Mars Concert
DESCRIPTION:Jackson and Mars is a high-energy live band and production showcasing the biggest hits of two of pop music’s biggest icons: Michael Jackson and Bruno Mars. GET TICKETS NOW! \nJoin us on Thursday\, May 4 at Guitars & Cadillacs in Overland Park. The fun begins at 6:30 p.m. with special guest Rusty Laffoon\, and JAM will wrap around 10 p.m.
URL:https://www.kidstlc.org/event-calendar/jackson-and-mars-concert/
LOCATION:Guitars & Cadillacs\, 7312 W 119th St\, Overland Park\, KS\, 66213\, United States
CATEGORIES:Third Party Events
END:VEVENT
BEGIN:VEVENT
DTSTART;VALUE=DATE:20230416
DTEND;VALUE=DATE:20230501
DTSTAMP:20260422T064819
CREATED:20230320T122408Z
LAST-MODIFIED:20230404T151423Z
UID:10390-1681603200-1682899199@www.kidstlc.org
SUMMARY:Chicken N Pickle
DESCRIPTION:Running from April 16–30 at Chicken N Pickle in Overland Park\, KidsTLC will receive a donation from a portion of drinks purchased in their green cups! Every soft drink and tea sold will come in a green cup. For beer and cocktails purchases\, guests can include a green cup for just $1.50 more\, and proceeds will benefit our agency!
URL:https://www.kidstlc.org/event-calendar/chicken-n-pickle/
LOCATION:Chicken N Pickle\, 5901 W 135th St.\, Overland Park\, KS\, 66223\, United States
CATEGORIES:Third Party Events
END:VEVENT
END:VCALENDAR